BEGIN:VCALENDAR
VERSION:2.0
PRODID:-//ChamberMaster//Event Calendar 2.0//EN
METHOD:PUBLISH
X-PUBLISHED-TTL:P3D
REFRESH-INTERVAL:P3D
CALSCALE:GREGORIAN
BEGIN:VEVENT
DTSTART:20140425T140000Z
DTEND:20140425T140000Z
X-MICROSOFT-CDO-ALLDAYEVENT:FALSE
SUMMARY:Zygmund Jankowski: A Celebration of Life – Exhibition and Book Launch
DESCRIPTION:Trident Gallery is very pleased to host an exhibition coinciding with the release of a book featuring the images and words of this legendary Cape Ann painter and teacher.
X-ALT-DESC;FMTTYPE=text/html:Trident Gallery is very pleased to host an exhibition coinciding with the release of a book featuring the images and words of this legendary Cape Ann painter and teacher. 
LOCATION:189 Main Street\, Gloucester \, Ma 01930 Trident Gallery is in downtown Gloucester\, Massachusetts\, on Main Street at the corner of Duncan Street (which becomes Pleasant Street as it crosses Main). Click here for a map and notes on nearby parking.
UID:e.2981.1295
SEQUENCE:3
DTSTAMP:20260419T214945Z
URL:https://visit.rockportusa.com/events/details/zygmund-jankowski-a-celebration-of-life-exhibition-and-book-launch-04-25-2014-1295
END:VEVENT

END:VCALENDAR
