BEGIN:VCALENDAR
VERSION:2.0
PRODID:-//ChamberMaster//Event Calendar 2.0//EN
METHOD:PUBLISH
X-PUBLISHED-TTL:P3D
REFRESH-INTERVAL:P3D
CALSCALE:GREGORIAN
BEGIN:VEVENT
DTSTART:20140706T000000Z
DTEND:20140706T000000Z
X-MICROSOFT-CDO-ALLDAYEVENT:FALSE
SUMMARY:Zappa Plays Zappa
DESCRIPTION:Who better to interpret the genius of Frank Zappa than his own son? Dweezil Zappa is keeping the musical legacy of his legendary father alive with a series of tours called Zappa Plays Zappa. The fully orchestrated band\, complete with video integration of the elder Zappa performing along with his son and band\, is a complex\, entertaining\, fun\, sophisticated and rare experience!  Tickets: $85/$75/$55
X-ALT-DESC;FMTTYPE=text/html:Who better to interpret the genius of Frank Zappa than his own son? Dweezil Zappa is keeping the musical legacy of his legendary father alive with a series of tours called Zappa Plays Zappa. The fully orchestrated band\, complete with video integration of the elder Zappa performing along with his son and band\, is a complex\, entertaining\, fun\, sophisticated and rare experience!  Tickets: $85/$75/$55
LOCATION:Shalin Liu Performance Center\, Rockport\, Ma 01966
UID:e.2981.1280
SEQUENCE:3
DTSTAMP:20260419T162656Z
URL:https://visit.rockportusa.com/events/details/zappa-plays-zappa-07-05-2014-1280
END:VEVENT

END:VCALENDAR
