BEGIN:VCALENDAR
VERSION:2.0
PRODID:-//ChamberMaster//Event Calendar 2.0//EN
METHOD:PUBLISH
X-PUBLISHED-TTL:P3D
REFRESH-INTERVAL:P3D
CALSCALE:GREGORIAN
BEGIN:VEVENT
DTSTART:20140727T000000Z
DTEND:20140727T000000Z
X-MICROSOFT-CDO-ALLDAYEVENT:FALSE
SUMMARY:Yellowjackets
DESCRIPTION:One of the most successful jazz fusion bands of all time\, the Yellowjackets combine smooth jazz with R&B\, funk and world music to create an intoxicating mélange of music all their own. Instantly familiar hits like ''And You Know That'' and ''Matinee Idol'' helped launch the band into the rarified air of jazz fusion superstars in the 80's. Tickets: $68/$58/$49
X-ALT-DESC;FMTTYPE=text/html:One of the most successful jazz fusion bands of all time\, the Yellowjackets combine smooth jazz with R&B\, funk and world music to create an intoxicating mélange of music all their own. Instantly familiar hits like ''And You Know That'' and ''Matinee Idol'' helped launch the band into the rarified air of jazz fusion superstars in the 80's. Tickets: $68/$58/$49
LOCATION:Shalin Liu Performance Center\, Rockport\, Ma 01966
UID:e.2981.1261
SEQUENCE:3
DTSTAMP:20260419T143942Z
URL:https://visit.rockportusa.com/events/details/yellowjackets-07-26-2014-1261
END:VEVENT

END:VCALENDAR
