BEGIN:VCALENDAR
VERSION:2.0
PRODID:-//ChamberMaster//Event Calendar 2.0//EN
METHOD:PUBLISH
X-PUBLISHED-TTL:P3D
REFRESH-INTERVAL:P3D
CALSCALE:GREGORIAN
BEGIN:VEVENT
DTSTART:20140301T220000Z
DTEND:20140301T230000Z
X-MICROSOFT-CDO-ALLDAYEVENT:FALSE
SUMMARY:Winter Meditations ''Winter Birding with John James Audubon'' Gallery Talk with Chris Leahy
DESCRIPTION:On Saturday\, March 1st\, 5pm-6pm\, naturalist Chris Leahy will give a gallery talk\, "Winter Birding with John James Audubon.''  A charismatic and popular speaker as well as a noted author and editor\, Leahy holds the Gerard A. Bertrand Chair of Natural History and Field Ornithology at Mass Audubon and is a recognized authority on birds and insects.  A resident of Gloucester since the 1970s\, Leahy will speak particularly about the birds of Cape Ann as he adapts a talk he has been giving at the exhibition ''Audubon's Birds\, Audubon's Words\,'' at the Museum of Fine Arts in Boston.
X-ALT-DESC;FMTTYPE=text/html:On Saturday\, March 1st\, 5pm-6pm\, naturalist Chris Leahy will give a gallery talk\, "Winter Birding with John James Audubon.''  A charismatic and popular speaker as well as a noted author and editor\, Leahy holds the Gerard A. Bertrand Chair of Natural History and Field Ornithology at Mass Audubon and is a recognized authority on birds and insects.  A resident of Gloucester since the 1970s\, Leahy will speak particularly about the birds of Cape Ann as he adapts a talk he has been giving at the exhibition ''Audubon's Birds\, Audubon's Words\,'' at the Museum of Fine Arts in Boston.
LOCATION:189 Main Street\, Gloucester \, MA 01930 Trident Gallery is in downtown Gloucester\, Massachusetts\, on Main Street at the corner of Duncan Street (which becomes Pleasant Street as it crosses Main).
UID:e.2981.1189
SEQUENCE:3
DTSTAMP:20260419T231549Z
URL:https://visit.rockportusa.com/events/details/winter-meditations-winter-birding-with-john-james-audubon-gallery-talk-with-chris-leahy-03-01-2014-1189
END:VEVENT

END:VCALENDAR
