BEGIN:VCALENDAR
VERSION:2.0
PRODID:-//ChamberMaster//Event Calendar 2.0//EN
METHOD:PUBLISH
X-PUBLISHED-TTL:P3D
REFRESH-INTERVAL:P3D
CALSCALE:GREGORIAN
BEGIN:VEVENT
DTSTART:20140214T220000Z
DTEND:20140214T230000Z
X-MICROSOFT-CDO-ALLDAYEVENT:FALSE
SUMMARY:Winter Meditations Poetry Reading by poet Rufus Collinson
DESCRIPTION:Trident Gallery warmly welcomes Rufus Collinson\, Poet Laureate of Gloucester\, who will give a poetry reading marking the beginning of "Longing\," phase three of Winter Meditations.
X-ALT-DESC;FMTTYPE=text/html:Trident Gallery warmly welcomes Rufus Collinson\, Poet Laureate of Gloucester\, who will give a poetry reading marking the beginning of "Longing\," phase three of Winter Meditations.
LOCATION:189 Main Street\, Gloucester \, MA 01930 Trident Gallery is in downtown Gloucester\, Massachusetts\, on Main Street at the corner of Duncan Street (which becomes Pleasant Street as it crosses Main).
UID:e.2981.1192
SEQUENCE:3
DTSTAMP:20260419T231524Z
URL:https://visit.rockportusa.com/events/details/winter-meditations-poetry-reading-by-poet-rufus-collinson-02-14-2014-1192
END:VEVENT

END:VCALENDAR
