BEGIN:VCALENDAR
VERSION:2.0
PRODID:-//ChamberMaster//Event Calendar 2.0//EN
METHOD:PUBLISH
X-PUBLISHED-TTL:P3D
REFRESH-INTERVAL:P3D
CALSCALE:GREGORIAN
BEGIN:VEVENT
DTSTART:20140222T220000Z
DTEND:20140222T230000Z
X-MICROSOFT-CDO-ALLDAYEVENT:FALSE
SUMMARY:Winter Meditations Poetry Reading by poet David Rich
DESCRIPTION:Trident Gallery is very pleased to host a poetry reading by editor\, scholar\, and poet David Rich.
X-ALT-DESC;FMTTYPE=text/html:Trident Gallery is very pleased to host a poetry reading by editor\, scholar\, and poet David Rich.
LOCATION:189 Main Street\, Gloucester \, MA 01930 Trident Gallery is in downtown Gloucester\, Massachusetts\, on Main Street at the corner of Duncan Street (which becomes Pleasant Street as it crosses Main).
UID:e.2981.1191
SEQUENCE:3
DTSTAMP:20260419T231504Z
URL:https://visit.rockportusa.com/events/details/winter-meditations-poetry-reading-by-poet-david-rich-02-22-2014-1191
END:VEVENT

END:VCALENDAR
