BEGIN:VCALENDAR
VERSION:2.0
PRODID:-//ChamberMaster//Event Calendar 2.0//EN
METHOD:PUBLISH
X-PUBLISHED-TTL:P3D
REFRESH-INTERVAL:P3D
CALSCALE:GREGORIAN
BEGIN:VEVENT
DTSTART:20140208T220000Z
DTEND:20140209T000000Z
X-MICROSOFT-CDO-ALLDAYEVENT:FALSE
SUMMARY:Winter Meditations Poetry Reading by poet Brendan Galvin
DESCRIPTION:Poet and Guggenheim Fellow Brendan Galvin\, a National Book Award finalist and author of 16 collections of poetry including ''Whirl is King: Poems from a Life List (2008\, LSU Press)\, a collection of poems about birds\, will read from his work.
X-ALT-DESC;FMTTYPE=text/html:Poet and Guggenheim Fellow Brendan Galvin\, a National Book Award finalist and author of 16 collections of poetry including ''Whirl is King: Poems from a Life List (2008\, LSU Press)\, a collection of poems about birds\, will read from his work.
LOCATION:189 Main Street\, Gloucester \, MA 01930 Trident Gallery is in downtown Gloucester\, Massachusetts\, on Main Street at the corner of Duncan Street (which becomes Pleasant Street as it crosses Main).
UID:e.2981.1190
SEQUENCE:3
DTSTAMP:20260419T231614Z
URL:https://visit.rockportusa.com/events/details/winter-meditations-poetry-reading-by-poet-brendan-galvin-02-08-2014-1190
END:VEVENT

END:VCALENDAR
