BEGIN:VCALENDAR
VERSION:2.0
PRODID:-//ChamberMaster//Event Calendar 2.0//EN
METHOD:PUBLISH
X-PUBLISHED-TTL:P3D
REFRESH-INTERVAL:P3D
CALSCALE:GREGORIAN
BEGIN:VEVENT
DTSTART:20140131T180000Z
DTEND:20140131T200000Z
X-MICROSOFT-CDO-ALLDAYEVENT:FALSE
SUMMARY:Winter Meditations ''Observation'' Workshop with artist Sandy McDermott at Trident Gallery
DESCRIPTION:On Friday\, January 31\, 1-3pm\, artist Sandy McDermott will lead off the Winter Birding Weekend with a workshop at Trident Gallery on the close observation and field sketching of birds and other wildlife. The workshop is free and open to the public.  Reservations are required.
X-ALT-DESC;FMTTYPE=text/html:On Friday\, January 31\, 1-3pm\, artist Sandy McDermott will lead off the Winter Birding Weekend with a workshop at Trident Gallery on the close observation and field sketching of birds and other wildlife. The workshop is free and open to the public.  Reservations are required.
LOCATION:189 Main Street\, Gloucester \, MA 01930 Trident Gallery is in downtown Gloucester\, Massachusetts\, on Main Street at the corner of Duncan Street (which becomes Pleasant Street as it crosses Main).
UID:e.2981.1185
SEQUENCE:3
DTSTAMP:20260420T011112Z
URL:https://visit.rockportusa.com/events/details/winter-meditations-observation-workshop-with-artist-sandy-mcdermott-at-trident-gallery-01-31-2014-1185
END:VEVENT

END:VCALENDAR
