BEGIN:VCALENDAR
VERSION:2.0
PRODID:-//ChamberMaster//Event Calendar 2.0//EN
METHOD:PUBLISH
X-PUBLISHED-TTL:P3D
REFRESH-INTERVAL:P3D
CALSCALE:GREGORIAN
BEGIN:VEVENT
DTSTART:20140125T220000Z
DTEND:20140126T000000Z
X-MICROSOFT-CDO-ALLDAYEVENT:FALSE
SUMMARY:Winter Meditations ''Arctic Life'' Public Reception at Trident Gallery
DESCRIPTION:Trident Gallery is proud to host a loan from the Massachusetts Audubon Society Museum of American Bird Art of more than 30 prints and  paintings of bird species present on Cape Ann in winter by artists John James Audubon\, Milton Avery\, Andy Warhol and others. The exhibit is an extension of the annual Cape Ann Winter Birding Weekend (January 31 - February 2\, 2014).  A public reception entitled ''Arctic Life'' will be held on January 25\, 5-7pm\, to celebrate winter wildlife and the winter bird art\, and to meet Museum staff and Gallery artists.
X-ALT-DESC;FMTTYPE=text/html:Trident Gallery is proud to host a loan from the Massachusetts Audubon Society Museum of American Bird Art of more than 30 prints and  paintings of bird species present on Cape Ann in winter by artists John James Audubon\, Milton Avery\, Andy Warhol and others. The exhibit is an extension of the annual Cape Ann Winter Birding Weekend (January 31 - February 2\, 2014).  A public reception entitled ''Arctic Life'' will be held on January 25\, 5-7pm\, to celebrate winter wildlife and the winter bird art\, and to meet Museum staff and Gallery artists.
LOCATION:189 Main Street\, Gloucester \, MA 01930 Trident Gallery is in downtown Gloucester\, Massachusetts\, on Main Street at the corner of Duncan Street (which becomes Pleasant Street as it crosses Main).
UID:e.2981.1176
SEQUENCE:3
DTSTAMP:20260420T023825Z
URL:https://visit.rockportusa.com/events/details/winter-meditations-arctic-life-public-reception-at-trident-gallery-01-25-2014-1176
END:VEVENT

END:VCALENDAR
