BEGIN:VCALENDAR
VERSION:2.0
PRODID:-//ChamberMaster//Event Calendar 2.0//EN
METHOD:PUBLISH
X-PUBLISHED-TTL:P3D
REFRESH-INTERVAL:P3D
CALSCALE:GREGORIAN
BEGIN:VEVENT
DTSTART:20140309T210000Z
DTEND:20140309T220000Z
X-MICROSOFT-CDO-ALLDAYEVENT:FALSE
SUMMARY:Winter Meditations ''All Over Again'' Performance
DESCRIPTION:All Over Again\, a performance by musician Nathan Cole and dancers Olivier Besson and Chandra Cantor\, will again unite the visual arts with music and dance on Sunday\, March 9th\, 5-6pm.
X-ALT-DESC;FMTTYPE=text/html:All Over Again\, a performance by musician Nathan Cole and dancers Olivier Besson and Chandra Cantor\, will again unite the visual arts with music and dance on Sunday\, March 9th\, 5-6pm.
LOCATION:189 Main Street\, Gloucester \, MA 01930 Trident Gallery is in downtown Gloucester\, Massachusetts\, on Main Street at the corner of Duncan Street (which becomes Pleasant Street as it crosses Main).
UID:e.2981.1188
SEQUENCE:3
DTSTAMP:20260419T231104Z
URL:https://visit.rockportusa.com/events/details/winter-meditations-all-over-again-performance-03-09-2014-1188
END:VEVENT

END:VCALENDAR
