BEGIN:VCALENDAR
VERSION:2.0
PRODID:-//ChamberMaster//Event Calendar 2.0//EN
METHOD:PUBLISH
X-PUBLISHED-TTL:P3D
REFRESH-INTERVAL:P3D
CALSCALE:GREGORIAN
BEGIN:VEVENT
DTSTART:20140309T210000Z
DTEND:20140309T210000Z
X-MICROSOFT-CDO-ALLDAYEVENT:FALSE
SUMMARY:Winter Meditations ''All Over Again'' Evening of Music and Dance
DESCRIPTION:An evening of music and dance performance heralding the return of spring and marking the beginning of ''Persephone's Return\,'' the fourth and final phase of the trans-discipline art exhibition Winter Meditations at Trident Gallery.\nMulti-instrumentalist composers Nathan Cohen and Anthony Leva explore sonic geographies and genres.\nDancers Olivier Besson and Chandra Cantor improvise duets with poetic intimacy\, striking clarity\, and dynamic surprise.\nFree.  Donations appreciated.  Seating is limited and will be in demand:  a reservation by 9am Saturday\, March 8\, is strongly recommended.  events@tridentgallery.com\, 978-491-7785\, or join the event at facebook.com/TridentGallery.
X-ALT-DESC;FMTTYPE=text/html:An evening of music and dance performance heralding the return of spring and marking the beginning of ''Persephone's Return\,'' the fourth and final phase of the trans-discipline art exhibition Winter Meditations at Trident Gallery.\nMulti-instrumentalist composers Nathan Cohen and Anthony Leva explore sonic geographies and genres.\nDancers Olivier Besson and Chandra Cantor improvise duets with poetic intimacy\, striking clarity\, and dynamic surprise.\nFree.  Donations appreciated.  Seating is limited and will be in demand:  a reservation by 9am Saturday\, March 8\, is strongly recommended.  events@tridentgallery.com\, 978-491-7785\, or join the event at facebook.com/TridentGallery. \n
LOCATION:189 Main Street\, Gloucester \, MA 01930 Trident Gallery is in downtown Gloucester\, Massachusetts\, on Main Street at the corner of Duncan Street (which becomes Pleasant Street as it crosses Main).
UID:e.2981.1212
SEQUENCE:3
DTSTAMP:20260419T231657Z
URL:https://visit.rockportusa.com/events/details/winter-meditations-all-over-again-evening-of-music-and-dance-03-09-2014-1212
END:VEVENT

END:VCALENDAR
