BEGIN:VCALENDAR
VERSION:2.0
PRODID:-//ChamberMaster//Event Calendar 2.0//EN
METHOD:PUBLISH
X-PUBLISHED-TTL:P3D
REFRESH-INTERVAL:P3D
CALSCALE:GREGORIAN
BEGIN:VEVENT
DTSTART:20140221T003000Z
DTEND:20140221T003000Z
X-MICROSOFT-CDO-ALLDAYEVENT:FALSE
SUMMARY:Winter Film Series
DESCRIPTION:Essex County Greenbelt is hosting a film screening of the award winning docu-comedy Yert: Your Environmental Road Trip. The screening will take place at 7:30p.m at Gloucester's Cape Ann Cinema. A short facilitated discussion will follow the film. \n\nYert is relevant to conservation issues locally\, in Essex County and beyond. The story concerns 3 friends travelling the continental United States\, who meet several inspirational characters\, each doing their part to tackle the environmental crisis. The trio has certain eco-challenges to meet while travelling\, such as keeping all their trash in the vehicle with them\, and a surprise twist that changes the entire project. The film features environmental leaders including Bill McKibben\, Wes Jackson\, Will Allen\, Janine Benyus\, Joel Salatin\, David Orr\, and others. \n\n''This is an interesting and inspirational film\, and the screening is also an opportunity for Greenbelt to raise awareness about the fragile landscapes we are working to protect in Essex County\,'' said Greenbelt Executive Director\, Ed Becker.  \n\nThe film series is supported in part by the Essex County Ecology Center (Toad Hall Bookstore).   For more information contact Greenbelt at ecga@ecga.org or 978-768-7241.
X-ALT-DESC;FMTTYPE=text/html:Essex County Greenbelt is hosting a film screening of the award winning docu-comedy Yert: Your Environmental Road Trip. The screening will take place at 7:30p.m at Gloucester's Cape Ann Cinema. A short facilitated discussion will follow the film. \n\nYert is relevant to conservation issues locally\, in Essex County and beyond. The story concerns 3 friends travelling the continental United States\, who meet several inspirational characters\, each doing their part to tackle the environmental crisis. The trio has certain eco-challenges to meet while travelling\, such as keeping all their trash in the vehicle with them\, and a surprise twist that changes the entire project. The film features environmental leaders including Bill McKibben\, Wes Jackson\, Will Allen\, Janine Benyus\, Joel Salatin\, David Orr\, and others. \n\n''This is an interesting and inspirational film\, and the screening is also an opportunity for Greenbelt to raise awareness about the fragile landscapes we are working to protect in Essex County\,'' said Greenbelt Executive Director\, Ed Becker.  \n\nThe film series is supported in part by the Essex County Ecology Center (Toad Hall Bookstore).   For more information contact Greenbelt at ecga@ecga.org or 978-768-7241.\n\n
LOCATION:21 Main St\, Gloucester\, MA 01930 Cape Ann Cinema in located Gloucester MA
UID:e.2981.1182
SEQUENCE:3
DTSTAMP:20260419T231222Z
URL:https://visit.rockportusa.com/events/details/winter-film-series-02-20-2014-1182
END:VEVENT

END:VCALENDAR
