BEGIN:VCALENDAR
VERSION:2.0
PRODID:-//ChamberMaster//Event Calendar 2.0//EN
METHOD:PUBLISH
X-PUBLISHED-TTL:P3D
REFRESH-INTERVAL:P3D
CALSCALE:GREGORIAN
BEGIN:VEVENT
DTSTART:20131214T160000Z
DTEND:20131214T190000Z
X-MICROSOFT-CDO-ALLDAYEVENT:FALSE
SUMMARY:Winter Festival
DESCRIPTION:11-12- Come see our FREE Holiday Exhibition on ice by local talented ice skaters. 12-1 Arts and Crafts\, Bake Sale\, Used Skate and Dress Sale. 1-2 Whole Family can skate for $5!! Some rentals available. Helmets recommended.
X-ALT-DESC;FMTTYPE=text/html:11-12- Come see our FREE Holiday Exhibition on ice by local talented ice skaters. 12-1 Arts and Crafts\, Bake Sale\, Used Skate and Dress Sale. 1-2 Whole Family can skate for $5!! Some rentals available. Helmets recommended. 
LOCATION:32 Cherry st\, Gloucester\, Ma 01930 Dorothy Talbot Rink at O'Maley Middle School.
UID:e.2981.1165
SEQUENCE:3
DTSTAMP:20260420T023626Z
URL:https://visit.rockportusa.com/events/details/winter-festival-12-14-2013-1165
END:VEVENT

END:VCALENDAR
