BEGIN:VCALENDAR
VERSION:2.0
PRODID:-//ChamberMaster//Event Calendar 2.0//EN
METHOD:PUBLISH
X-PUBLISHED-TTL:P3D
REFRESH-INTERVAL:P3D
CALSCALE:GREGORIAN
BEGIN:VEVENT
DTSTART:20131116T000000Z
DTEND:20131116T023000Z
X-MICROSOFT-CDO-ALLDAYEVENT:FALSE
SUMMARY:Wine Tasting to Benefit Cape Ann Animal Aid
DESCRIPTION:Join wine lovers and food enthusiasts for a wine tasting at Savour Wine and Cheese in Gloucester to benefit Cape Ann Animal Aid! Tickets are $25.00 per person and space is limited! Don't miss out\, call 978.282.1455 for tickets today!
X-ALT-DESC;FMTTYPE=text/html:Join wine lovers and food enthusiasts for a wine tasting at Savour Wine and Cheese in Gloucester to benefit Cape Ann Animal Aid! Tickets are $25.00 per person and space is limited! Don't miss out\, call 978.282.1455 for tickets today! 
LOCATION:76 Prospect St.\, Gloucester\, MA 01930 Savour Wine and Cheese
UID:e.2981.1149
SEQUENCE:3
DTSTAMP:20260420T041257Z
URL:https://visit.rockportusa.com/events/details/wine-tasting-to-benefit-cape-ann-animal-aid-11-15-2013-1149
END:VEVENT

END:VCALENDAR
