BEGIN:VCALENDAR
VERSION:2.0
PRODID:-//ChamberMaster//Event Calendar 2.0//EN
METHOD:PUBLISH
X-PUBLISHED-TTL:P3D
REFRESH-INTERVAL:P3D
CALSCALE:GREGORIAN
BEGIN:VEVENT
DTSTART:20140423T140000Z
DTEND:20140423T160000Z
X-MICROSOFT-CDO-ALLDAYEVENT:FALSE
SUMMARY:Weeding Wednesday at Beauport\, the Sleeper - McCann House
DESCRIPTION:Volunteer alongside Historic New England's staff experts and members to care for and learn about historic gardens and landscapes.  Work includes seasonally appropriate tasks such as weeding the gardens and paths\, dividing plants\, planting new materials\, removing invasives\, and other clean-up activities.
X-ALT-DESC;FMTTYPE=text/html:Volunteer alongside Historic New England's staff experts and members to care for and learn about historic gardens and landscapes.  Work includes seasonally appropriate tasks such as weeding the gardens and paths\, dividing plants\, planting new materials\, removing invasives\, and other clean-up activities.  
LOCATION:75 Eastern Point Boulevard\, Gloucester \, MA 01930 The group will meet in the Beauport gate house across from the parking lot.
UID:e.2981.1287
SEQUENCE:3
DTSTAMP:20260419T200129Z
URL:https://visit.rockportusa.com/events/details/weeding-wednesday-at-beauport-the-sleeper-mccann-house-04-23-2014-1287
END:VEVENT

END:VCALENDAR
