BEGIN:VCALENDAR
VERSION:2.0
PRODID:-//ChamberMaster//Event Calendar 2.0//EN
METHOD:PUBLISH
X-PUBLISHED-TTL:P3D
REFRESH-INTERVAL:P3D
CALSCALE:GREGORIAN
BEGIN:VEVENT
DTSTART:20140503T153000Z
DTEND:20140503T173000Z
X-MICROSOFT-CDO-ALLDAYEVENT:FALSE
SUMMARY:Wedding Open House at Beauport\, the Sleeper - McCann House
DESCRIPTION:Situtated on a rock ledge overlooking the Gloucester Harbor\, Beauport\, the Sleeper - McCann House  is a unique and special setting for your nuptials.  The site is available for small\, intimate outdoor wedding ceremonies\, not including the receptions\, of fifty guests or less.  Staff will be on-site to show you around the property and answer all your questions.   .
X-ALT-DESC;FMTTYPE=text/html:Situtated on a rock ledge overlooking the Gloucester Harbor\, Beauport\, the Sleeper - McCann House  is a unique and special setting for your nuptials.  The site is available for small\, intimate outdoor wedding ceremonies\, not including the receptions\, of fifty guests or less.  Staff will be on-site to show you around the property and answer all your questions.   .  
LOCATION:75 Eastern Point Boulevard\, Gloucester\, MA 01930 Parking is available across the street and the entrance is through the gatehouse.
UID:e.2981.1285
SEQUENCE:3
DTSTAMP:20260419T200327Z
URL:https://visit.rockportusa.com/events/details/wedding-open-house-at-beauport-the-sleeper-mccann-house-05-03-2014-1285
END:VEVENT

END:VCALENDAR
