BEGIN:VCALENDAR
VERSION:2.0
PRODID:-//ChamberMaster//Event Calendar 2.0//EN
METHOD:PUBLISH
X-PUBLISHED-TTL:P3D
REFRESH-INTERVAL:P3D
CALSCALE:GREGORIAN
BEGIN:VEVENT
DTSTART:20260507T220000Z
DTEND:20260507T233000Z
X-MICROSOFT-CDO-ALLDAYEVENT:FALSE
SUMMARY:Vitamin Injection Pop Up
DESCRIPTION:Nourish your body from within the targeted vitamin support.\n\nSkinny Shot\n\nVitamin D\n\nImmune Support IM\n\nBiotin IM\n\nGlutathione IM
X-ALT-DESC;FMTTYPE=text/html:Nourish your body from within the targeted vitamin support.<br />\nSkinny Shot<br />\nVitamin D<br />\nImmune Support IM<br />\nBiotin IM<br />\nGlutathione IM
LOCATION:Revive Wellness Center 232 Main St. Gloucester\, MA 01930
UID:e.2981.46938
SEQUENCE:3
DTSTAMP:20260422T062404Z
URL:https://visit.rockportusa.com/events/details/vitamin-injection-pop-up-46938
END:VEVENT

END:VCALENDAR
