BEGIN:VCALENDAR
VERSION:2.0
PRODID:-//ChamberMaster//Event Calendar 2.0//EN
METHOD:PUBLISH
X-PUBLISHED-TTL:P3D
REFRESH-INTERVAL:P3D
CALSCALE:GREGORIAN
BEGIN:VEVENT
DTSTART:20140802T210000Z
DTEND:20140802T230000Z
X-MICROSOFT-CDO-ALLDAYEVENT:FALSE
SUMMARY:Visit Trident Gallery For a Conversation with Ruth Mordecai
DESCRIPTION:Ruth Mordecai will be at Trident Gallery for a conversation on August 2nd\, from 5-7pm.
X-ALT-DESC;FMTTYPE=text/html:Ruth Mordecai will be at Trident Gallery for a conversation on August 2nd\, from 5-7pm.
LOCATION:189 Main Street\, Gloucester\, MA 01930 Trident Gallery is in downtown Gloucester\, Massachusetts\, on Main Street at the corner of Duncan Street (which becomes Pleasant Street as it crosses Main).
UID:e.2981.1443
SEQUENCE:3
DTSTAMP:20260419T130608Z
URL:https://visit.rockportusa.com/events/details/visit-trident-gallery-for-a-conversation-with-ruth-mordecai-08-02-2014-1443
END:VEVENT

END:VCALENDAR
