BEGIN:VCALENDAR
VERSION:2.0
PRODID:-//ChamberMaster//Event Calendar 2.0//EN
METHOD:PUBLISH
X-PUBLISHED-TTL:P3D
REFRESH-INTERVAL:P3D
CALSCALE:GREGORIAN
BEGIN:VEVENT
DTSTART:20250608T210000Z
DTEND:20250608T230000Z
X-MICROSOFT-CDO-ALLDAYEVENT:FALSE
SUMMARY:Upstairs on Main: Embrace the Rainbow
DESCRIPTION:Step into a night of passion\, power\, and pride with Embrace The Rainbow   a dazzling cabaret show paying tribute to the music\, icons\, and unforgettable divas who shaped a journey of artistry and self-discovery. From powerhouse ballads to glittering anthems\, this one-night celebration brings you the songs that inspired this musician and lit the way through his coming out experience. Expect heart\, humor\, high notes\, and a whole lot of sparkle. Come for the music\, stay for the message   and leave feeling every color of the rainbow.\n\n\n\nGet up close and personal with incredible local talent at our Upstairs on Main concert series! Grab a beer (or wine) at the bar\, sit with friends and enjoy the intimate\, lounge-like atmosphere on the third floor of the hall.
X-ALT-DESC;FMTTYPE=text/html:<p><span style="color:rgb(0\, 0\, 0)\; font-family:open sans\,arial\,helvetica\,sans-serif\; font-size:16px">Step into a night of passion\, power\, and pride with&nbsp\;</span><em>Embrace The Rainbow</em><span style="color:rgb(0\, 0\, 0)\; font-family:open sans\,arial\,helvetica\,sans-serif\; font-size:16px">&nbsp\;&mdash\; a dazzling cabaret show paying tribute to the music\, icons\, and unforgettable divas who shaped a journey of artistry and self-discovery. From powerhouse ballads to glittering anthems\, this one-night celebration brings you the songs that inspired this musician and lit the way through his coming out experience. Expect heart\, humor\, high notes\, and a whole lot of sparkle. Come for the music\, stay for the message &mdash\; and leave feeling every color of the rainbow.</span><br />\n<br />\n<em>Get up close and personal with incredible local talent at our Upstairs on Main concert series! Grab a beer (or wine) at the bar\, sit with friends and enjoy the intimate\, lounge-like atmosphere on the third floor of the hall.</em><br />\n&nbsp\;</p>\n
LOCATION:37 Main St\, Rockport\, MA 01966
UID:e.2981.36717
SEQUENCE:3
DTSTAMP:20260426T040447Z
URL:https://visit.rockportusa.com/events/details/upstairs-on-main-embrace-the-rainbow-36717
END:VEVENT

END:VCALENDAR
