BEGIN:VCALENDAR
VERSION:2.0
PRODID:-//ChamberMaster//Event Calendar 2.0//EN
METHOD:PUBLISH
X-PUBLISHED-TTL:P3D
REFRESH-INTERVAL:P3D
CALSCALE:GREGORIAN
BEGIN:VEVENT
DTSTART:20140524T210000Z
DTEND:20140524T220000Z
X-MICROSOFT-CDO-ALLDAYEVENT:FALSE
SUMMARY:Trident Live Art Series presents Junichi Fukuda and Kristen Miller
DESCRIPTION:Cellist\,singer\,composer Kristen Miller will play a set of her lush and original work\, and dancer Junichi Fukuda will present his solo "Eclosion." Other performance surprises in store. Light refreshments and conversation to follow performance. event is free\, donations appreciated\, reservations encouraged: email events@tridentgallery.com to reserve \n\nSaturday\, May 24\, 5:00-6:00pm
X-ALT-DESC;FMTTYPE=text/html:Cellist\,singer\,composer Kristen Miller will play a set of her lush and original work\, and dancer Junichi Fukuda will present his solo "Eclosion." Other performance surprises in store. Light refreshments and conversation to follow performance. event is free\, donations appreciated\, reservations encouraged: email events@tridentgallery.com to reserve \n\nSaturday\, May 24\, 5:00-6:00pm\n
LOCATION:189 Main Street\, Gloucester\, Ma 01930 Trident Gallery is in downtown Gloucester\, Massachusetts\, on Main Street at the corner of Duncan Street (which becomes Pleasant Street as it crosses Main). Click here for a map and notes on nearby parking. The MBTA Gloucester train station on the Rockport fork of the Newburyport/Rockport commuter rail from Boston is half a mile\, a 10 minute walk from Trident Gallery according to Google Maps.
UID:e.2981.1326
SEQUENCE:3
DTSTAMP:20260419T182344Z
URL:https://visit.rockportusa.com/events/details/trident-live-art-series-presents-junichi-fukuda-and-kristen-miller-05-24-2014-1326
END:VEVENT

END:VCALENDAR
