BEGIN:VCALENDAR
VERSION:2.0
PRODID:-//ChamberMaster//Event Calendar 2.0//EN
METHOD:PUBLISH
X-PUBLISHED-TTL:P3D
REFRESH-INTERVAL:P3D
CALSCALE:GREGORIAN
BEGIN:VEVENT
DTSTART:20140818T000000Z
DTEND:20140818T000000Z
X-MICROSOFT-CDO-ALLDAYEVENT:FALSE
SUMMARY:Trident Gallery Live Art Series: Auto-Body-Graphic
DESCRIPTION:Auto-Body-Graphic is a dance-media performance in collaboration with the internet\, by Vincent Cacialano\, Program Leader\, Manchester Metropolitan University\, UK. He is a co-founding member of the Amsterdam based improvisation group Magpie Music Dance Company\, whose guest performers include Steve Paxton\, Nancy Stark Smith\, Miguel Gutierrez\, David Zambrano\, Kirstie Simpson\, Benoit Lachambre and many others. Vincent's work has been produced widely across Europe and in America.
X-ALT-DESC;FMTTYPE=text/html:Auto-Body-Graphic is a dance-media performance in collaboration with the internet\, by Vincent Cacialano\, Program Leader\, Manchester Metropolitan University\, UK. He is a co-founding member of the Amsterdam based improvisation group Magpie Music Dance Company\, whose guest performers include Steve Paxton\, Nancy Stark Smith\, Miguel Gutierrez\, David Zambrano\, Kirstie Simpson\, Benoit Lachambre and many others. Vincent's work has been produced widely across Europe and in America.
LOCATION:189 Main Street\, Gloucester\, Ma 01930 Trident Gallery is in downtown Gloucester\, Massachusetts\, on Main Street at the corner of Duncan Street (which becomes Pleasant Street as it crosses Main).
UID:e.2981.1474
SEQUENCE:3
DTSTAMP:20260419T130858Z
URL:https://visit.rockportusa.com/events/details/trident-gallery-live-art-series-auto-body-graphic-08-17-2014-1474
END:VEVENT

END:VCALENDAR
