BEGIN:VCALENDAR
VERSION:2.0
PRODID:-//ChamberMaster//Event Calendar 2.0//EN
METHOD:PUBLISH
X-PUBLISHED-TTL:P3D
REFRESH-INTERVAL:P3D
CALSCALE:GREGORIAN
BEGIN:VEVENT
DTSTART:20140809T210000Z
DTEND:20140809T230000Z
X-MICROSOFT-CDO-ALLDAYEVENT:FALSE
SUMMARY:Trident Gallery Hosts Public Reception for Ruth Mordecai
DESCRIPTION:A public reception for Ruth Mordecai will be held at Trident Gallery on Saturday\, August 9th from 5-7pm.
X-ALT-DESC;FMTTYPE=text/html:A public reception for Ruth Mordecai will be held at Trident Gallery on Saturday\, August 9th from 5-7pm. 
LOCATION:189 Main Street\, Gloucester\, MA 01930 Trident Gallery is in downtown Gloucester\, Massachusetts\, on Main Street at the corner of Duncan Street (which becomes Pleasant Street as it crosses Main).
UID:e.2981.1444
SEQUENCE:3
DTSTAMP:20260419T144158Z
URL:https://visit.rockportusa.com/events/details/trident-gallery-hosts-public-reception-for-ruth-mordecai-08-09-2014-1444
END:VEVENT

END:VCALENDAR
