BEGIN:VCALENDAR
VERSION:2.0
PRODID:-//ChamberMaster//Event Calendar 2.0//EN
METHOD:PUBLISH
X-PUBLISHED-TTL:P3D
REFRESH-INTERVAL:P3D
CALSCALE:GREGORIAN
BEGIN:VEVENT
DTSTART:20131031T200000Z
DTEND:20131031T220000Z
X-MICROSOFT-CDO-ALLDAYEVENT:FALSE
SUMMARY:Trick Or Treat On Main Street!
DESCRIPTION:Trick Or Treat on Main Street!  Thursday\, October 31 from 4-6pm.  \nBring your ghosts and goblins to downtown Gloucester for tricks and treats-  \nLook for the Jack-o-lanterns in the windows of participating businesses.  Then\, head on over to City Hall\n for the town-wide Halloween Party (6-8PM)- all FREE!  It will be SPOOKtacular!
X-ALT-DESC;FMTTYPE=text/html:Trick Or Treat on Main Street!  Thursday\, October 31 from 4-6pm.  \nBring your ghosts and goblins to downtown Gloucester for tricks and treats-  \nLook for the Jack-o-lanterns in the windows of participating businesses.  Then\, head on over to City Hall\n for the town-wide Halloween Party (6-8PM)- all FREE!  It will be SPOOKtacular!
LOCATION:Main Street\, Gloucester\, MA 01930 Downtown Gloucester
UID:e.2981.1144
SEQUENCE:3
DTSTAMP:20260420T055037Z
URL:https://visit.rockportusa.com/events/details/trick-or-treat-on-main-street-10-31-2013-1144
END:VEVENT

END:VCALENDAR
