BEGIN:VCALENDAR
VERSION:2.0
PRODID:-//ChamberMaster//Event Calendar 2.0//EN
METHOD:PUBLISH
X-PUBLISHED-TTL:P3D
REFRESH-INTERVAL:P3D
CALSCALE:GREGORIAN
BEGIN:VEVENT
DTSTART:20130928T170000Z
DTEND:20130929T200000Z
X-MICROSOFT-CDO-ALLDAYEVENT:FALSE
SUMMARY:TRAILS & SAILS
DESCRIPTION:The Manchester Historical Museum Summer Exhibit\, "Grand Houses and Gracious Living\," provides a close look at many of the grand houses that were built in Manchester from 1880 through the end of the First World War. Also on display are clothing worn during this period and artifacts from the famous Masconomo Hotel. Additionally\, tour the Trask House that was built in 1823 by local businesswoman Abigail Hooper. That same year\, she married Captain Richard Trask\, one of Manchester's successful merchant ship captains. The rooms of the Trask House contain an impressive collection of period furniture\, artifacts and fine art.
X-ALT-DESC;FMTTYPE=text/html:The Manchester Historical Museum Summer Exhibit\, "Grand Houses and Gracious Living\," provides a close look at many of the grand houses that were built in Manchester from 1880 through the end of the First World War. Also on display are clothing worn during this period and artifacts from the famous Masconomo Hotel. Additionally\, tour the Trask House that was built in 1823 by local businesswoman Abigail Hooper. That same year\, she married Captain Richard Trask\, one of Manchester's successful merchant ship captains. The rooms of the Trask House contain an impressive collection of period furniture\, artifacts and fine art. 
LOCATION:10 Union Street\, Manchester\, MA 01944 Manchester Historical Museum/Trask House
UID:e.2981.1051
SEQUENCE:3
DTSTAMP:20260420T072944Z
URL:https://visit.rockportusa.com/events/details/trails-sails-09-28-2013-1051
END:VEVENT

END:VCALENDAR
