BEGIN:VCALENDAR
VERSION:2.0
PRODID:-//ChamberMaster//Event Calendar 2.0//EN
METHOD:PUBLISH
X-PUBLISHED-TTL:P3D
REFRESH-INTERVAL:P3D
CALSCALE:GREGORIAN
BEGIN:VEVENT
DTSTART:20140824T210000Z
DTEND:20140824T210000Z
X-MICROSOFT-CDO-ALLDAYEVENT:FALSE
SUMMARY:Tom Rush
DESCRIPTION:In what has become a delightful\, much-anticipated Rockport tradition\, folk legend Tom Rush returns to the Shalin Liu Performance Center. Rush's easy\, world-weary baritone and nimble finger-picking combined with his wry\, poignant songwriting made him a star of the 60's urban folk revival.  Tickets: $68/$58/$49
X-ALT-DESC;FMTTYPE=text/html:In what has become a delightful\, much-anticipated Rockport tradition\, folk legend Tom Rush returns to the Shalin Liu Performance Center. Rush's easy\, world-weary baritone and nimble finger-picking combined with his wry\, poignant songwriting made him a star of the 60's urban folk revival.  Tickets: $68/$58/$49
LOCATION:Shalin Liu Performance Center\, Rockport\, Ma 01966
UID:e.2981.1249
SEQUENCE:3
DTSTAMP:20260419T130358Z
URL:https://visit.rockportusa.com/events/details/tom-rush-08-24-2014-1249
END:VEVENT

END:VCALENDAR
