BEGIN:VCALENDAR
VERSION:2.0
PRODID:-//ChamberMaster//Event Calendar 2.0//EN
METHOD:PUBLISH
X-PUBLISHED-TTL:P3D
REFRESH-INTERVAL:P3D
CALSCALE:GREGORIAN
BEGIN:VEVENT
DTSTART:20140810T190000Z
DTEND:20140810T040000Z
X-MICROSOFT-CDO-ALLDAYEVENT:FALSE
SUMMARY:Tina Packer's ''Women of Will''
DESCRIPTION:Equal parts performance and masterclass\, Women of Will is the remarkable summation of Shakespeare & Company Artistic Director Tina Packer's 40-plus years spent investigating all things Shakespeare. Women of Will fuses riveting scenes with trenchant analysis and discussion to flesh out themes of love\, loss\, freedom\, control\, violence and power through the heroines of Shakespeare's text.  TWO PERFORMANCES\, 3PM & 7PM.  Each performance highlights different periods of William Shakespeare's plays\, so experience both lively performances by Tina Packer and receive a 10% discount–$82.80\, $68.40\, $50.40.
X-ALT-DESC;FMTTYPE=text/html:Equal parts performance and masterclass\, Women of Will is the remarkable summation of Shakespeare & Company Artistic Director Tina Packer's 40-plus years spent investigating all things Shakespeare. Women of Will fuses riveting scenes with trenchant analysis and discussion to flesh out themes of love\, loss\, freedom\, control\, violence and power through the heroines of Shakespeare's text.  TWO PERFORMANCES\, 3PM & 7PM.  Each performance highlights different periods of William Shakespeare's plays\, so experience both lively performances by Tina Packer and receive a 10% discount–$82.80\, $68.40\, $50.40.
LOCATION:37 Main Street\, Rockport\, MA 01966 Shalin Liu Performance Center
UID:e.2981.1323
SEQUENCE:3
DTSTAMP:20260419T130910Z
URL:https://visit.rockportusa.com/events/details/tina-packer-s-women-of-will-08-10-2014-1323
END:VEVENT

END:VCALENDAR
