BEGIN:VCALENDAR
VERSION:2.0
PRODID:-//ChamberMaster//Event Calendar 2.0//EN
METHOD:PUBLISH
X-PUBLISHED-TTL:P3D
REFRESH-INTERVAL:P3D
CALSCALE:GREGORIAN
BEGIN:VEVENT
DTSTART:20130928T170000Z
DTEND:20130928T200000Z
X-MICROSOFT-CDO-ALLDAYEVENT:FALSE
SUMMARY:The North Shore Meat House Burger Competition
DESCRIPTION:The North Shore Meat House will be hosting a burger competition this Saturday September 28th from 1-4pm to benefit the Cystic Fibrosis Foundation's 2013 CF Cycle for Life.  The event will be held at 15 Enon St\, Beverly\, MA and admission is $5. Additionally\, there will be a raffle with over $1000 in prizes. The Cystic Fibrosis Foundation is the leading organization funding critical research in the areas of patient care and quality of life for those living with Cystic Fibrosis.\nFor more information visit http://www.cff.org/.
X-ALT-DESC;FMTTYPE=text/html:The North Shore Meat House will be hosting a burger competition this Saturday September 28th from 1-4pm to benefit the Cystic Fibrosis Foundation's 2013 CF Cycle for Life.  The event will be held at 15 Enon St\, Beverly\, MA and admission is $5. Additionally\, there will be a raffle with over $1000 in prizes. The Cystic Fibrosis Foundation is the leading organization funding critical research in the areas of patient care and quality of life for those living with Cystic Fibrosis.\nFor more information visit http://www.cff.org/.
LOCATION:15 Enon Street\, Beverly\, MA 01915 15 Enon St\, Beverly\, MA
UID:e.2981.1123
SEQUENCE:3
DTSTAMP:20260420T073705Z
URL:https://visit.rockportusa.com/events/details/the-north-shore-meat-house-burger-competition-09-28-2013-1123
END:VEVENT

END:VCALENDAR
