BEGIN:VCALENDAR
VERSION:2.0
PRODID:-//ChamberMaster//Event Calendar 2.0//EN
METHOD:PUBLISH
X-PUBLISHED-TTL:P3D
REFRESH-INTERVAL:P3D
CALSCALE:GREGORIAN
BEGIN:VEVENT
DTSTART:20140823T000000Z
DTEND:20140823T000000Z
X-MICROSOFT-CDO-ALLDAYEVENT:FALSE
SUMMARY:The Kingston Trio
DESCRIPTION:Known for their role in the folk revival of the early 60's\, their iconic takes on traditional folk classics like ''Tom Dooley'' and for their trademark three-part harmonies\, The Kingston Trio returns to Rockport for an unforgettable evening of vintage folk classics.  Tickets: $68/$58/$49
X-ALT-DESC;FMTTYPE=text/html:Known for their role in the folk revival of the early 60's\, their iconic takes on traditional folk classics like ''Tom Dooley'' and for their trademark three-part harmonies\, The Kingston Trio returns to Rockport for an unforgettable evening of vintage folk classics.  Tickets: $68/$58/$49
LOCATION:Shalin Liu Performance Center\, Rockport\, Ma 01966
UID:e.2981.1253
SEQUENCE:3
DTSTAMP:20260419T130608Z
URL:https://visit.rockportusa.com/events/details/the-kingston-trio-08-22-2014-1253
END:VEVENT

END:VCALENDAR
