BEGIN:VCALENDAR
VERSION:2.0
PRODID:-//ChamberMaster//Event Calendar 2.0//EN
METHOD:PUBLISH
X-PUBLISHED-TTL:P3D
REFRESH-INTERVAL:P3D
CALSCALE:GREGORIAN
BEGIN:VEVENT
DTSTART:20140518T180000Z
DTEND:20140518T200000Z
X-MICROSOFT-CDO-ALLDAYEVENT:FALSE
SUMMARY:The Dive Locker's Live Diving Event Off Webster Pier at Maritime Gloucester
DESCRIPTION:Join us on May 18th from 2:00 to 4:00 pm when we take the vintage Mark 5 Navy diving suit out of Paul Harling's Diving Locker and give it a test run off the end of our pier. Commercial diver John Harvey will wear the brass diving helmet and the durable rubberized canvas suit in this working equipment demonstration. Experts will be on-hand to answer questions. Come join in the fun!  This is a free family event.  For more information\, visit www.maritimegloucester.org or call (978) 281-0470.
X-ALT-DESC;FMTTYPE=text/html:Join us on May 18th from 2:00 to 4:00 pm when we take the vintage Mark 5 Navy diving suit out of Paul Harling's Diving Locker and give it a test run off the end of our pier. Commercial diver John Harvey will wear the brass diving helmet and the durable rubberized canvas suit in this working equipment demonstration. Experts will be on-hand to answer questions. Come join in the fun!  This is a free family event.  For more information\, visit www.maritimegloucester.org or call (978) 281-0470.
LOCATION:23 Harbor Loop\, Gloucester\, MA 01930 Webster Pier at Maritime Gloucester
UID:e.2981.1315
SEQUENCE:3
DTSTAMP:20260419T182144Z
URL:https://visit.rockportusa.com/events/details/the-dive-locker-s-live-diving-event-off-webster-pier-at-maritime-gloucester-05-18-2014-1315
END:VEVENT

END:VCALENDAR
