BEGIN:VCALENDAR
VERSION:2.0
PRODID:-//ChamberMaster//Event Calendar 2.0//EN
METHOD:PUBLISH
X-PUBLISHED-TTL:P3D
REFRESH-INTERVAL:P3D
CALSCALE:GREGORIAN
BEGIN:VEVENT
DTSTART:20140513T233000Z
DTEND:20140513T233000Z
X-MICROSOFT-CDO-ALLDAYEVENT:FALSE
SUMMARY:The Changing Language of Artistic Expression\, Stephen Bates\, clarinet and visual artist with Bonnie Anderson\, piano
DESCRIPTION:Stephen Bates was a clarinetist with the Kennedy Center's Opera Orchestra for 36 years and also an abstract artist who works primarily in watercolor collage. His work has been exhibited in both The Watergate Gallery and The Parish Gallery. He currently lives in Manchester and will perform a program showing the integration of art and music. Bates will perform Brahms' Sonata No. 2 for clarinet and piano\, Stravinsky's Three Pieces for Clarinet\, and Stephen Kleiman's Sonatine No. 2 for clarinet and piano\, ''Inner Dance''. During the program\, he will show his own works of art and works by Kandinsky and briefly discuss Kandinsky's move towards abstraction (changing language) as well as synaesthesia—the connection between two senses—in this discussion the connection between colors or images triggered by different sounds.\n\nFree\, no tickets required.
X-ALT-DESC;FMTTYPE=text/html:Stephen Bates was a clarinetist with the Kennedy Center's Opera Orchestra for 36 years and also an abstract artist who works primarily in watercolor collage. His work has been exhibited in both The Watergate Gallery and The Parish Gallery. He currently lives in Manchester and will perform a program showing the integration of art and music. Bates will perform Brahms' Sonata No. 2 for clarinet and piano\, Stravinsky's Three Pieces for Clarinet\, and Stephen Kleiman's Sonatine No. 2 for clarinet and piano\, ''Inner Dance''. During the program\, he will show his own works of art and works by Kandinsky and briefly discuss Kandinsky's move towards abstraction (changing language) as well as synaesthesia—the connection between two senses—in this discussion the connection between colors or images triggered by different sounds.\n\nFree\, no tickets required.\n\n
LOCATION:Shalin Liu Performance Center\, Rockport\, MA 01966 Travelling by Car Rockport is 45 miles from downtown Boston. Drive north on Route 128 (through two rotaries) to the traffic light in Gloucester. At the traffic light\, turn left onto Route 127. Drive 4 miles to Rockport. Continue through “Five Corners” onto Route 127A (Broadway) toward the harbor. It’s a slight vere to the right. At the stop sign at Mt. Pleasant Street (lighthouse in median)\, turn left and then bear left onto Main Street. The Shalin Liu Performance Center is on the right at 37 Main Street. Travelling by Train Rockport is accessible by commuter rail from Boston and other Northshore towns. The commuter rail originates from North Station on the Green line in Boston. The train station is ½ mile walk to the concert hall.
UID:e.2981.1178
SEQUENCE:3
DTSTAMP:20260419T182518Z
URL:https://visit.rockportusa.com/events/details/the-changing-language-of-artistic-expression-stephen-bates-clarinet-and-visual-artist-with-bonnie-anderson-piano-05-13-2014-1178
END:VEVENT

END:VCALENDAR
