BEGIN:VCALENDAR
VERSION:2.0
PRODID:-//ChamberMaster//Event Calendar 2.0//EN
METHOD:PUBLISH
X-PUBLISHED-TTL:P3D
REFRESH-INTERVAL:P3D
CALSCALE:GREGORIAN
BEGIN:VEVENT
DTSTART:20140808T000000Z
DTEND:20140808T000000Z
X-MICROSOFT-CDO-ALLDAYEVENT:FALSE
SUMMARY:The Bad Plus & Joshua Redman
DESCRIPTION:Boundary-defying postmodern jazz trio The Bad Plus joins forces with the immensely charismatic two-time Grammy nominated saxophonist Joshua Redman for an unforgettable evening of musical exploration.  While coming from distinct and wholly unique musical backgrounds\, both bring a similarly fearless approach to jazz.
X-ALT-DESC;FMTTYPE=text/html:Boundary-defying postmodern jazz trio The Bad Plus joins forces with the immensely charismatic two-time Grammy nominated saxophonist Joshua Redman for an unforgettable evening of musical exploration.  While coming from distinct and wholly unique musical backgrounds\, both bring a similarly fearless approach to jazz.   
LOCATION:Shalin Liu Performance Center\, Rockport\, Ma 01966
UID:e.2981.1236
SEQUENCE:3
DTSTAMP:20260419T144228Z
URL:https://visit.rockportusa.com/events/details/the-bad-plus-joshua-redman-08-07-2014-1236
END:VEVENT

END:VCALENDAR
