BEGIN:VCALENDAR
VERSION:2.0
PRODID:-//ChamberMaster//Event Calendar 2.0//EN
METHOD:PUBLISH
X-PUBLISHED-TTL:P3D
REFRESH-INTERVAL:P3D
CALSCALE:GREGORIAN
BEGIN:VEVENT
DTSTART:20260517T190000Z
DTEND:20260517T210000Z
X-MICROSOFT-CDO-ALLDAYEVENT:FALSE
SUMMARY:Tea & Tranquility
DESCRIPTION:Nurture your body\, mind and spirit in this heart-centered afternoon of rest and renewal.\n\nGentle Yin-Yoga\n\nReiki energy healing\n\nHerbal tea & seasonal wellness discussion
X-ALT-DESC;FMTTYPE=text/html:Nurture your body\, mind and spirit in this heart-centered afternoon of rest and renewal.<br />\nGentle Yin-Yoga<br />\nReiki energy healing<br />\nHerbal tea &amp\; seasonal wellness discussion
LOCATION:Revive Wellness Center 232 Main Street Gloucester\, MA 01930
UID:e.2981.46939
SEQUENCE:3
DTSTAMP:20260422T062118Z
URL:https://visit.rockportusa.com/events/details/tea-tranquility-46939
END:VEVENT

END:VCALENDAR
