BEGIN:VCALENDAR
VERSION:2.0
PRODID:-//ChamberMaster//Event Calendar 2.0//EN
METHOD:PUBLISH
X-PUBLISHED-TTL:P3D
REFRESH-INTERVAL:P3D
CALSCALE:GREGORIAN
BEGIN:VEVENT
DTSTART:20131005T200000Z
DTEND:20131026T220000Z
X-MICROSOFT-CDO-ALLDAYEVENT:FALSE
SUMMARY:Tea\, Tea leaf or Tarot reading
DESCRIPTION:Join us each Saturday in October from 4-6 pm for Afternoon Tea with your choice of either a Tea Leaf or Tarot Card reading.  Includes a 15 minuter tea leaf or tarot card reading\, a scone\, with butter or & preserves\, 4 tea sandwiches\, a 2 cup pot of tea (or beverage of your choice)\, tax and gratuity.  Saturday October 5\, 12\, 19\, and 26.  RSVP 978-309-3388 or email us at heath@heathstearoom.com.  Seating is limited.
X-ALT-DESC;FMTTYPE=text/html:Join us each Saturday in October from 4-6 pm for Afternoon Tea with your choice of either a Tea Leaf or Tarot Card reading.  Includes a 15 minuter tea leaf or tarot card reading\, a scone\, with butter or & preserves\, 4 tea sandwiches\, a 2 cup pot of tea (or beverage of your choice)\, tax and gratuity.  Saturday October 5\, 12\, 19\, and 26.  RSVP 978-309-3388 or email us at heath@heathstearoom.com.  Seating is limited.
LOCATION:43 South Street\, Rockport\, MA 01966 43 South Street Rockport\, MA 01966
UID:e.2981.1127
SEQUENCE:3
DTSTAMP:20260420T054746Z
URL:https://visit.rockportusa.com/events/details/tea-tea-leaf-or-tarot-reading-10-05-2013-1127
END:VEVENT

END:VCALENDAR
