BEGIN:VCALENDAR
VERSION:2.0
PRODID:-//ChamberMaster//Event Calendar 2.0//EN
METHOD:PUBLISH
X-PUBLISHED-TTL:P3D
REFRESH-INTERVAL:P3D
CALSCALE:GREGORIAN
BEGIN:VEVENT
DTSTART:20130928T210000Z
DTEND:20130928T210000Z
X-MICROSOFT-CDO-ALLDAYEVENT:FALSE
SUMMARY:Talk at Trident Gallery: Perspectives on Cape Ann
DESCRIPTION:Gallery Director Matthew Swift and other presenters to be determined will host a program of remarks and discussion on the diverse representations of Cape Ann by painter Joe Poirier and photographers Winston Swift Boyer\, Charlie Carroll\, and Lynn Swigart.  Additional works by these artists will be on display.\n\nThis is the second of four Saturday afternoon gallery talks focusing on artists featured in "Home: The Inaugural Exhibition." Prepared remarks for 30-45 minutes will be followed by discussion and light refreshments. Additional works of art by the subjects will be on display during each event.
X-ALT-DESC;FMTTYPE=text/html:Gallery Director Matthew Swift and other presenters to be determined will host a program of remarks and discussion on the diverse representations of Cape Ann by painter Joe Poirier and photographers Winston Swift Boyer\, Charlie Carroll\, and Lynn Swigart.  Additional works by these artists will be on display.\n\nThis is the second of four Saturday afternoon gallery talks focusing on artists featured in "Home: The Inaugural Exhibition." Prepared remarks for 30-45 minutes will be followed by discussion and light refreshments. Additional works of art by the subjects will be on display during each event.
LOCATION:189 Main Street\, Gloucester\, MA 01930 Trident Gallery
UID:e.2981.1117
SEQUENCE:3
DTSTAMP:20260420T073537Z
URL:https://visit.rockportusa.com/events/details/talk-at-trident-gallery-perspectives-on-cape-ann-09-28-2013-1117
END:VEVENT

END:VCALENDAR
