BEGIN:VCALENDAR
VERSION:2.0
PRODID:-//ChamberMaster//Event Calendar 2.0//EN
METHOD:PUBLISH
X-PUBLISHED-TTL:P3D
REFRESH-INTERVAL:P3D
CALSCALE:GREGORIAN
BEGIN:VEVENT
DTSTART:20130921T210000Z
DTEND:20130921T210000Z
X-MICROSOFT-CDO-ALLDAYEVENT:FALSE
SUMMARY:Talk at Trident Gallery: Home\, Safety\, and Art
DESCRIPTION:At "Home\, Safety\, and Art\," Gallery Director Matthew Swift and artist Susan Erony will speak on the work of artists Albert Alcalay and Susan Erony. Both Alcalay and Erony's father emigrated to the United States to escape persecution. Additional works of art by Alcalay and Erony will be on display.\n\nThis is the first of four Saturday afternoon gallery talks focusing on artists featured in "Home: The Inaugural Exhibition." Prepared remarks for 30-45 minutes will be followed by discussion and light refreshments. Additional works of art by the subjects will be on display during each event.
X-ALT-DESC;FMTTYPE=text/html:At "Home\, Safety\, and Art\," Gallery Director Matthew Swift and artist Susan Erony will speak on the work of artists Albert Alcalay and Susan Erony. Both Alcalay and Erony's father emigrated to the United States to escape persecution. Additional works of art by Alcalay and Erony will be on display.\n\nThis is the first of four Saturday afternoon gallery talks focusing on artists featured in "Home: The Inaugural Exhibition." Prepared remarks for 30-45 minutes will be followed by discussion and light refreshments. Additional works of art by the subjects will be on display during each event.
LOCATION:189 Main Street\, Gloucester\, MA 01930 Trident Gallery
UID:e.2981.1119
SEQUENCE:3
DTSTAMP:20260420T073653Z
URL:https://visit.rockportusa.com/events/details/talk-at-trident-gallery-home-safety-and-art-09-21-2013-1119
END:VEVENT

END:VCALENDAR
