BEGIN:VCALENDAR
VERSION:2.0
PRODID:-//ChamberMaster//Event Calendar 2.0//EN
METHOD:PUBLISH
X-PUBLISHED-TTL:P3D
REFRESH-INTERVAL:P3D
CALSCALE:GREGORIAN
BEGIN:VEVENT
DTSTART:20140817T180000Z
DTEND:20140817T180000Z
X-MICROSOFT-CDO-ALLDAYEVENT:FALSE
SUMMARY:Swing Xing! with Bucky Pizzarelli\, Frank Vignola\, Vinny Raniola
DESCRIPTION:Swing Xing! Three Generations of Swing Guitar\, showcases three of the top swing guitarists in the world including swing guitar legend Bucky Pizzarelli.  All hailing from different generations\, this esteemed guitar trio combines the expert musicianship and precision of swing guitar with the whimsical flair of vaudeville.  Tickets: $39/$35/$25
X-ALT-DESC;FMTTYPE=text/html:Swing Xing! Three Generations of Swing Guitar\, showcases three of the top swing guitarists in the world including swing guitar legend Bucky Pizzarelli.  All hailing from different generations\, this esteemed guitar trio combines the expert musicianship and precision of swing guitar with the whimsical flair of vaudeville.  Tickets: $39/$35/$25
LOCATION:Shalin Liu Performance Center\, Rockport\, Ma 01966
UID:e.2981.1273
SEQUENCE:3
DTSTAMP:20260419T130910Z
URL:https://visit.rockportusa.com/events/details/swing-xing-with-bucky-pizzarelli-frank-vignola-vinny-raniola-08-17-2014-1273
END:VEVENT

END:VCALENDAR
