BEGIN:VCALENDAR
VERSION:2.0
PRODID:-//ChamberMaster//Event Calendar 2.0//EN
METHOD:PUBLISH
X-PUBLISHED-TTL:P3D
REFRESH-INTERVAL:P3D
CALSCALE:GREGORIAN
BEGIN:VEVENT
DTSTART:20140511T000000Z
DTEND:20140511T020000Z
X-MICROSOFT-CDO-ALLDAYEVENT:FALSE
SUMMARY:Suzy Bogguss
DESCRIPTION:One of the most successful country singers of the 90's\, Suzy Bogguss successfully straddled the line between mainstream Nashville pop and classic honky-tonk for years. After a string of hits like ''Drive South'' and ''Letting Go\,'' as well as multiple gold and platinum-selling albums in the early 90's\, the Illinois-raised singer-songwriter broadened her range in more recent years with diversions into swing and folk. Her most recent record\, 2014's ''Lucky\,'' features Bogguss interpreting tunes from one of her early mentors and champions- the legendary Merle Haggard. \nMore of a traditional stylist than the current crop of pop-oriented female country singers\, Bogguss has always been a favorite of Music Row's elite pickers and players. The luminous-voiced singer has collaborated with icons like guitarist Chet Atkins\, Western Swing legend Ray Benson\, bluegrass superstar Alison Krauss\, and of course\, honky-tonk hero Merle Haggard. \n\n''… a clear\, penetrating voice\, pitch-perfect singing and songwriting intelligence.''- NY Times
X-ALT-DESC;FMTTYPE=text/html:One of the most successful country singers of the 90's\, Suzy Bogguss successfully straddled the line between mainstream Nashville pop and classic honky-tonk for years. After a string of hits like ''Drive South'' and ''Letting Go\,'' as well as multiple gold and platinum-selling albums in the early 90's\, the Illinois-raised singer-songwriter broadened her range in more recent years with diversions into swing and folk. Her most recent record\, 2014's ''Lucky\,'' features Bogguss interpreting tunes from one of her early mentors and champions- the legendary Merle Haggard. \nMore of a traditional stylist than the current crop of pop-oriented female country singers\, Bogguss has always been a favorite of Music Row's elite pickers and players. The luminous-voiced singer has collaborated with icons like guitarist Chet Atkins\, Western Swing legend Ray Benson\, bluegrass superstar Alison Krauss\, and of course\, honky-tonk hero Merle Haggard. \n\n''… a clear\, penetrating voice\, pitch-perfect singing and songwriting intelligence.''- NY Times\n\n
LOCATION:Shalin Liu Performance Center\, Rockport\, MA 01966 Travelling by Car Rockport is 45 miles from downtown Boston. Drive north on Route 128 (through two rotaries) to the traffic light in Gloucester. At the traffic light\, turn left onto Route 127. Drive 4 miles to Rockport. Continue through “Five Corners” onto Route 127A (Broadway) toward the harbor. It’s a slight vere to the right. At the stop sign at Mt. Pleasant Street (lighthouse in median)\, turn left and then bear left onto Main Street. The Shalin Liu Performance Center is on the right at 37 Main Street. Travelling by Train Rockport is accessible by commuter rail from Boston and other Northshore towns. The commuter rail originates from North Station on the Green line in Boston. The train station is ½ mile walk to the concert hall.
UID:e.2981.1198
SEQUENCE:3
DTSTAMP:20260419T181749Z
URL:https://visit.rockportusa.com/events/details/suzy-bogguss-05-10-2014-1198
END:VEVENT

END:VCALENDAR
