BEGIN:VCALENDAR
VERSION:2.0
PRODID:-//ChamberMaster//Event Calendar 2.0//EN
METHOD:PUBLISH
X-PUBLISHED-TTL:P3D
REFRESH-INTERVAL:P3D
CALSCALE:GREGORIAN
BEGIN:VEVENT
DTSTART:20140331T210000Z
DTEND:20140331T210000Z
X-MICROSOFT-CDO-ALLDAYEVENT:FALSE
SUMMARY:Sustainable Seafood Dinner
DESCRIPTION:Latitude 43 & Turner's Seafood Team Up For Maritime Gloucester!  On Monday\, March 31st\, Jake DaSilva and his team will welcome the crew from Turner's Seafood into the Latitude 43 kitchen for a sustainable seafood dinner. The chefs will prepare dishes highlighting underutilized\, local seafood to showcase the best of what the waters off Gloucester have to offer.\n The three-course meal will feature underutilized fish that can typically be found at Turners Seafood or on Lat 43's specials menu (think beyond haddock to skate wings)\, and each guest will receive a recipe card detailing how they can prepare this local seafood in their own home.\nThe three-course meal is $33.00 with a percentage of the total going directly to Maritime Gloucester to support a new fisheries exhibit.  \nReservations are available from 5:00 pm on\, and can be made by calling Latitude 43.
X-ALT-DESC;FMTTYPE=text/html:Latitude 43 & Turner's Seafood Team Up For Maritime Gloucester!  On Monday\, March 31st\, Jake DaSilva and his team will welcome the crew from Turner's Seafood into the Latitude 43 kitchen for a sustainable seafood dinner. The chefs will prepare dishes highlighting underutilized\, local seafood to showcase the best of what the waters off Gloucester have to offer.\n The three-course meal will feature underutilized fish that can typically be found at Turners Seafood or on Lat 43's specials menu (think beyond haddock to skate wings)\, and each guest will receive a recipe card detailing how they can prepare this local seafood in their own home.\nThe three-course meal is $33.00 with a percentage of the total going directly to Maritime Gloucester to support a new fisheries exhibit.  \nReservations are available from 5:00 pm on\, and can be made by calling Latitude 43.
LOCATION:25 Rogers Street\, Gloucester\, MA 01930 Latitude 43 25 Rogers Street Gloucester\, Massachusetts 01930
UID:e.2981.1225
SEQUENCE:3
DTSTAMP:20260419T214046Z
URL:https://visit.rockportusa.com/events/details/sustainable-seafood-dinner-03-31-2014-1225
END:VEVENT

END:VCALENDAR
