BEGIN:VCALENDAR
VERSION:2.0
PRODID:-//ChamberMaster//Event Calendar 2.0//EN
METHOD:PUBLISH
X-PUBLISHED-TTL:P3D
REFRESH-INTERVAL:P3D
CALSCALE:GREGORIAN
BEGIN:VEVENT
DTSTART:20140816T220000Z
DTEND:20140817T003000Z
X-MICROSOFT-CDO-ALLDAYEVENT:FALSE
SUMMARY:Sunset Celtic Music Sail
DESCRIPTION:Join Michael O'Leary and Friends for a Sunset Celtic Music Sail on the Schooner Thomas E. Lannon on Saturday\, August 16th from 6:00-8:30 p.m. Featuring North Shore singers and musicians performing traditional tunes and songs onboard while the schooner sails  in the harbor. Enjoy the craic!
X-ALT-DESC;FMTTYPE=text/html:Join Michael O'Leary and Friends for a Sunset Celtic Music Sail on the Schooner Thomas E. Lannon on Saturday\, August 16th from 6:00-8:30 p.m. Featuring North Shore singers and musicians performing traditional tunes and songs onboard while the schooner sails  in the harbor. Enjoy the craic! 
LOCATION:Schooner Thomas E. Lannon\, Gloucester\, MA 01930 Seven Seas Wharf\, 63 rear Rogers St.\, (Rt. 127) Gloucester\, MA
UID:e.2981.1476
SEQUENCE:3
DTSTAMP:20260419T130541Z
URL:https://visit.rockportusa.com/events/details/sunset-celtic-music-sail-08-16-2014-1476
END:VEVENT

END:VCALENDAR
