BEGIN:VCALENDAR
VERSION:2.0
PRODID:-//ChamberMaster//Event Calendar 2.0//EN
METHOD:PUBLISH
X-PUBLISHED-TTL:P3D
REFRESH-INTERVAL:P3D
CALSCALE:GREGORIAN
BEGIN:VEVENT
DTSTART:20140822T220000Z
DTEND:20140823T000000Z
X-MICROSOFT-CDO-ALLDAYEVENT:FALSE
SUMMARY:Stop\, Drop and Sail! Date Night on the Ardelle
DESCRIPTION:Parents enjoy a beautiful summer sail around Gloucester Harbor on the Schooner Ardelle\, while the kids (ages 4+) stay on-shore with \nMaritime Gloucester education staff for fun activities in our Touch Tank Aquarium. Want to make it dinner and a sail? We've teamed up with Beach Gourmet to offer dinner onboard. Entrée choices available on line. Cash bar available onboard. Arrive 15 minutes before departure time.
X-ALT-DESC;FMTTYPE=text/html:Parents enjoy a beautiful summer sail around Gloucester Harbor on the Schooner Ardelle\, while the kids (ages 4+) stay on-shore with \nMaritime Gloucester education staff for fun activities in our Touch Tank Aquarium. Want to make it dinner and a sail? We've teamed up with Beach Gourmet to offer dinner onboard. Entrée choices available on line. Cash bar available onboard. Arrive 15 minutes before departure time.
LOCATION:23 Harbor Loop\, Gloucester\, MA 01930 Check-in at 5:30 pm at Maritime Gloucester. Sail leaves from Harriet Webster Pier.
UID:e.2981.1463
SEQUENCE:3
DTSTAMP:20260419T130738Z
URL:https://visit.rockportusa.com/events/details/stop-drop-and-sail-date-night-on-the-ardelle-08-22-2014-1463
END:VEVENT

END:VCALENDAR
