BEGIN:VCALENDAR
VERSION:2.0
PRODID:-//ChamberMaster//Event Calendar 2.0//EN
METHOD:PUBLISH
X-PUBLISHED-TTL:P3D
REFRESH-INTERVAL:P3D
CALSCALE:GREGORIAN
BEGIN:VEVENT
DTSTART:20140718T220000Z
DTEND:20140718T220000Z
X-MICROSOFT-CDO-ALLDAYEVENT:FALSE
SUMMARY:Stop\, Drop and Sail! Date Night on the Ardelle
DESCRIPTION:Parents enjoy a beautiful summer sail around Gloucester Harbor on the Schooner Ardelle\, while the kids (ages 4+) stay on-shore with \nMaritime Gloucester education staff for fun activities in our Touch Tank Aquarium. \nWant to add dinner?  We've teamed up with Beach Gourmet to offer dinner onboard! Entrée Choices Include: Seared Salmon & Potato Salad\, Pepper Stuffed with Quinoa Salad\, Roast Beef Sandwich with Caramelized Onions\, Arugula & Horseradish Aioli.  Includes a small dessert. Cash bar available onboard.\nTICKETS : SAIL TICKETS $36 FOR MARITIME GLOUCESTER MEMBERS\, $40 NON-MEMBERS CHILD ACTIVITIES (AGES 4+) \n$7 PER CHILD FOR MEMBERS\, $10 PER CHILD FOR NON-MEMBERS. (DINNER NOT PROVIDED.) DINNER ONBOARD $10 PER PERSON.\nAUDIENCE: SAIL FOR ADULTS ONLY\, CHILD ACTIVITIES (AGES4+) AT MARITIME GLOUCESTER\nArrive 15 minutes before departure time.
X-ALT-DESC;FMTTYPE=text/html:Parents enjoy a beautiful summer sail around Gloucester Harbor on the Schooner Ardelle\, while the kids (ages 4+) stay on-shore with \nMaritime Gloucester education staff for fun activities in our Touch Tank Aquarium. \nWant to add dinner?  We've teamed up with Beach Gourmet to offer dinner onboard! Entrée Choices Include: Seared Salmon & Potato Salad\, Pepper Stuffed with Quinoa Salad\, Roast Beef Sandwich with Caramelized Onions\, Arugula & Horseradish Aioli.  Includes a small dessert. Cash bar available onboard.\nTICKETS : SAIL TICKETS $36 FOR MARITIME GLOUCESTER MEMBERS\, $40 NON-MEMBERS CHILD ACTIVITIES (AGES 4+) \n$7 PER CHILD FOR MEMBERS\, $10 PER CHILD FOR NON-MEMBERS. (DINNER NOT PROVIDED.) DINNER ONBOARD $10 PER PERSON.\nAUDIENCE: SAIL FOR ADULTS ONLY\, CHILD ACTIVITIES (AGES4+) AT MARITIME GLOUCESTER\nArrive 15 minutes before departure time.
LOCATION:23 Harbor Loop\, Gloucester\, MA 01930 23 Harbor Loop Gloucester\, MA 01930
UID:e.2981.1388
SEQUENCE:3
DTSTAMP:20260419T144512Z
URL:https://visit.rockportusa.com/events/details/stop-drop-and-sail-date-night-on-the-ardelle-07-18-2014-1388
END:VEVENT

END:VCALENDAR
