BEGIN:VCALENDAR
VERSION:2.0
PRODID:-//ChamberMaster//Event Calendar 2.0//EN
METHOD:PUBLISH
X-PUBLISHED-TTL:P3D
REFRESH-INTERVAL:P3D
CALSCALE:GREGORIAN
BEGIN:VEVENT
DTSTART:20140608T000000Z
DTEND:20140608T000000Z
X-MICROSOFT-CDO-ALLDAYEVENT:FALSE
SUMMARY:Stefan Jackiw\,violin & Anna Polansky\, piano
DESCRIPTION:Violinist Stefan Jackiw\, hailed by the Washington Post as ''talent that's off the scale\,'' joins forces with pianist Anna Polansky\, who was a recipient of the 2003 Borletti-Buitoni Trust Fellowship and the 2011 Andrew Wolf Chamber Music Award\, to perform works by Mozart\, Lutoslawski\, Saariaho and Brahms. Tickets: $58/$58/$39
X-ALT-DESC;FMTTYPE=text/html:Violinist Stefan Jackiw\, hailed by the Washington Post as ''talent that's off the scale\,'' joins forces with pianist Anna Polansky\, who was a recipient of the 2003 Borletti-Buitoni Trust Fellowship and the 2011 Andrew Wolf Chamber Music Award\, to perform works by Mozart\, Lutoslawski\, Saariaho and Brahms. Tickets: $58/$58/$39
LOCATION:Shalin Liu Performance Center\, Rockport\, Ma 01966
UID:e.2981.1279
SEQUENCE:3
DTSTAMP:20260419T163014Z
URL:https://visit.rockportusa.com/events/details/stefan-jackiw-violin-anna-polansky-piano-06-07-2014-1279
END:VEVENT

END:VCALENDAR
