BEGIN:VCALENDAR
VERSION:2.0
PRODID:-//ChamberMaster//Event Calendar 2.0//EN
METHOD:PUBLISH
X-PUBLISHED-TTL:P3D
REFRESH-INTERVAL:P3D
CALSCALE:GREGORIAN
BEGIN:VEVENT
DTSTART:20140924T110000Z
DTEND:20140924T130000Z
X-MICROSOFT-CDO-ALLDAYEVENT:FALSE
SUMMARY:State Representative Candidate Debate
DESCRIPTION:Cape Ann Chamber presents State REPRESENTATIVE CANDIDATEs debateOn Wednesday\, September 24\, the Cape Ann Chamber of Commerce will host a Candidates Debate between the two candidates for State Representative for the Fifth Essex District on the November 4 state elections ballot: incumbent State Representative Ann-Margaret Ferrante and challenger Mike Boucher. The debate will be held at the Elks at Bass Rocks\, located at 101 Atlantic Road in Gloucester from 7:00 to 9:00 am. This event will be open to Chamber members and the general public and will be moderated by Rockport Town Moderator\, Robert Visnick. A limited number of tickets are available for $25. Fee includes a light breakfast and attendance for the debate. Check-In and networking will be held from 7:00 to 7:30 am\, breakfast will be served from 7:30 to 8:00 and the debate will follow from 8:00 to 9:00 am. Questions will be posed by a panel of Cape Ann journalists. If you have questions that you would like considered for the candidates\, please submit them by Friday\, September 18 to peter@capeannchamber.com. Preregistration is highly recommended as this event will fill up quickly.  To make a reservation online please visit www.capeannchamber.com \, or contact Kerry McKenna at kerry@capeannchamber.com or 978-283-1601.
X-ALT-DESC;FMTTYPE=text/html:<p style="line-height:normal\;margin-bottom:0pt\;"><strong><span style="text-transform:uppercase\;font-size:14pt\;">Cape Ann Chamber presents State REPRESENTATIVE CANDIDATEs debate</span></strong></p><p style="line-height:normal\;margin-bottom:0pt\;"><strong></strong></p><p style="line-height:normal\;margin-bottom:0pt\;"><span style="font-size:12pt\;">On Wednesday\, September 24\, the Cape Ann Chamber of Commerce will host a Candidates Debate&nbsp\;between the two candidates for State Representative for the Fifth Essex District on the November 4 state elections ballot: incumbent State Representative Ann-Margaret Ferrante and challenger Mike Boucher.</span></p><p style="line-height:normal\;margin-bottom:0pt\;"><span style="font-size:12pt\;">&nbsp\;</span></p><p style="line-height:normal\;margin-bottom:0pt\;"><span style="font-size:12pt\;">The debate will be held at the Elks at Bass Rocks\, located at 101 Atlantic Road in Gloucester from 7:00 to 9:00 am. This event will be open to Chamber members and the general public and will be moderated by Rockport Town Moderator\, Robert Visnick. </span></p><p style="line-height:normal\;margin-bottom:0pt\;"></p><p style="line-height:normal\;margin-bottom:0pt\;"><span style="font-size:12pt\;">A limited number of t</span><span style="font-size:12pt\;">ickets are available for $25.</span><span style="font-size:12pt\;"> Fee includes a light breakfast and attendance for the debate. Check-In and networking will be held from 7:00 to 7:30 am\, breakfast will be served from 7:30 to 8:00 and the debate will follow from 8:00 to 9:00 am. </span></p><p style="line-height:normal\;margin-bottom:0pt\;"></p><p style="line-height:normal\;margin-bottom:0pt\;"><span style="color:black\;font-size:12pt\;">Questions will be posed by a panel of Cape Ann journalists. If you have questions that you would like considered for the candidates\, please submit them by Friday\, September 18 to <a href="mailto:peter@capeannchamber.com">peter@capeannchamber.com</a>.&nbsp\;</span></p><p style="line-height:normal\;margin-bottom:0pt\;"></p><p><span style="color:black\;line-height:115%\;font-size:12pt\;">Preregistration is highly recommended as this event will fill up quickly.&nbsp\; To make a reservation online please visit <a href="http://www.capeannchamber.com">www.capeannchamber.com</a> \, or contact Kerry McKenna at <a href="mailto:kerry@capeannchamber.com">kerry@capeannchamber.com</a> or 978-283-1601.&nbsp\;</span></p>
LOCATION:The Elks at Bass Rocks 101 Atlantic Road\, Gloucester \, MA 01930 Candidate Debate
UID:e.2981.1526
SEQUENCE:3
DTSTAMP:20260419T130357Z
URL:https://visit.rockportusa.com/events/details/state-representative-candidate-debate-09-24-2014-1526
END:VEVENT

END:VCALENDAR
