BEGIN:VCALENDAR
VERSION:2.0
PRODID:-//ChamberMaster//Event Calendar 2.0//EN
METHOD:PUBLISH
X-PUBLISHED-TTL:P3D
REFRESH-INTERVAL:P3D
CALSCALE:GREGORIAN
BEGIN:VEVENT
DTSTART:20131213T233000Z
DTEND:20131213T233000Z
X-MICROSOFT-CDO-ALLDAYEVENT:FALSE
SUMMARY:Snow Ball
DESCRIPTION:$50 per person\, proceeds will support all programs of Pathways for Children.   For more information contact Jill at jcahill@pw4c.org or 978-281-2400 x154
X-ALT-DESC;FMTTYPE=text/html:$50 per person\, proceeds will support all programs of Pathways for Children.   For more information contact Jill at jcahill@pw4c.org or 978-281-2400 x154
LOCATION:Cruiseport Gloucester\, Gloucester\, MA 01930 Cruiseport Gloucester
UID:e.2981.1059
SEQUENCE:3
DTSTAMP:20260420T023417Z
URL:https://visit.rockportusa.com/events/details/snow-ball-12-13-2013-1059
END:VEVENT

END:VCALENDAR
