BEGIN:VCALENDAR
VERSION:2.0
PRODID:-//ChamberMaster//Event Calendar 2.0//EN
METHOD:PUBLISH
X-PUBLISHED-TTL:P3D
REFRESH-INTERVAL:P3D
CALSCALE:GREGORIAN
BEGIN:VEVENT
DTSTART;VALUE=DATE:20250419
DTEND;VALUE=DATE:20250602
TRANSP:TRANSPARENT
X-MICROSOFT-CDO-ALLDAYEVENT:TRUE
SUMMARY:Small Works 1-Juried Artist Members\, Rockport Art Association & Museum
DESCRIPTION:Small Works 1-Juried Artist Members\, Rockport Art Association & Museum\,\n\nPearson Gallery
X-ALT-DESC;FMTTYPE=text/html:Small Works 1-Juried Artist Members\, Rockport Art Association &amp\; Museum\,<br />\nPearson Gallery<br />\n&nbsp\;
LOCATION:Rockport Art Association & Museum 12 Main Street Rockport\, MA 01966
UID:e.2981.36531
SEQUENCE:3
DTSTAMP:20260426T015117Z
URL:https://visit.rockportusa.com/events/details/small-works-1-juried-artist-members-rockport-art-association-museum-04-19-2025-36531
END:VEVENT

END:VCALENDAR
