BEGIN:VCALENDAR
VERSION:2.0
PRODID:-//ChamberMaster//Event Calendar 2.0//EN
METHOD:PUBLISH
X-PUBLISHED-TTL:P3D
REFRESH-INTERVAL:P3D
CALSCALE:GREGORIAN
BEGIN:VEVENT
DTSTART:20140621T000000Z
DTEND:20140621T000000Z
X-MICROSOFT-CDO-ALLDAYEVENT:FALSE
SUMMARY:Shubertiade Evening
DESCRIPTION:Joined by members of the Boston Symphony Orchestra and New England Conservatory faculty\, Artist Director David Deveau performs a program highlighting the musical genius of Schubert\, including the String Trio in B-flat major\, Fantasy in F minor for piano four-hands and Piano Quintet in A major ''Trout.'' Tickets: $65/$55/$45
X-ALT-DESC;FMTTYPE=text/html:Joined by members of the Boston Symphony Orchestra and New England Conservatory faculty\, Artist Director David Deveau performs a program highlighting the musical genius of Schubert\, including the String Trio in B-flat major\, Fantasy in F minor for piano four-hands and Piano Quintet in A major ''Trout.'' Tickets: $65/$55/$45
LOCATION:Shalin Liu Performance Center\, Rockport\, Ma 01966
UID:e.2981.1252
SEQUENCE:3
DTSTAMP:20260419T162510Z
URL:https://visit.rockportusa.com/events/details/shubertiade-evening-06-20-2014-1252
END:VEVENT

END:VCALENDAR
