BEGIN:VCALENDAR
VERSION:2.0
PRODID:-//ChamberMaster//Event Calendar 2.0//EN
METHOD:PUBLISH
X-PUBLISHED-TTL:P3D
REFRESH-INTERVAL:P3D
CALSCALE:GREGORIAN
BEGIN:VEVENT
DTSTART:20140622T000000Z
DTEND:20140622T000000Z
X-MICROSOFT-CDO-ALLDAYEVENT:FALSE
SUMMARY:Shanghai Quartet
DESCRIPTION:Hailed for performances of ''stunning authenticity and presence'' (The Washington Post)\, the Shanghai Quartet has worked with the world's most distinguished artists and regularly tours the major music centers of Europe\, North America and Asia. Tickets: $58/$48/$39
X-ALT-DESC;FMTTYPE=text/html:Hailed for performances of ''stunning authenticity and presence'' (The Washington Post)\, the Shanghai Quartet has worked with the world's most distinguished artists and regularly tours the major music centers of Europe\, North America and Asia. Tickets: $58/$48/$39
LOCATION:Shalin Liu Performance Center\, Rockport\, Ma 01966
UID:e.2981.1246
SEQUENCE:3
DTSTAMP:20260419T162511Z
URL:https://visit.rockportusa.com/events/details/shanghai-quartet-06-21-2014-1246
END:VEVENT

END:VCALENDAR
