BEGIN:VCALENDAR
VERSION:2.0
PRODID:-//ChamberMaster//Event Calendar 2.0//EN
METHOD:PUBLISH
X-PUBLISHED-TTL:P3D
REFRESH-INTERVAL:P3D
CALSCALE:GREGORIAN
BEGIN:VEVENT
DTSTART:20140422T170000Z
DTEND:20140422T170000Z
X-MICROSOFT-CDO-ALLDAYEVENT:FALSE
SUMMARY:Seeking Seasonal Site Administrator
DESCRIPTION:Seasonal site administrator needed for Sargent House Museum in Gloucester MA. Hours are 11:30-4:30 Fridays\, Saturdays and Sundays from Memorial Day through Labor Day. American history background with docent experience and knowledge of visitor services required. Familiarity with PC and Microsoft office needed. A reliable\, calm organized demeanor desired. Send resumes to: dsweir [at] live [dot] com. No phone calls please.
X-ALT-DESC;FMTTYPE=text/html:Seasonal site administrator needed for Sargent House Museum in Gloucester MA. Hours are 11:30-4:30 Fridays\, Saturdays and Sundays from Memorial Day through Labor Day. American history background with docent experience and knowledge of visitor services required. Familiarity with PC and Microsoft office needed. A reliable\, calm organized demeanor desired. Send resumes to: dsweir [at] live [dot] com. No phone calls please.
LOCATION:49 Middle Street\, Gloucester\, Ma 01930 Sargent House Museum\, Gloucester\, MA
UID:e.2981.1293
SEQUENCE:3
DTSTAMP:20260419T214203Z
URL:https://visit.rockportusa.com/events/details/seeking-seasonal-site-administrator-04-22-2014-1293
END:VEVENT

END:VCALENDAR
