BEGIN:VCALENDAR
VERSION:2.0
PRODID:-//ChamberMaster//Event Calendar 2.0//EN
METHOD:PUBLISH
X-PUBLISHED-TTL:P3D
REFRESH-INTERVAL:P3D
CALSCALE:GREGORIAN
BEGIN:VEVENT
DTSTART:20140513T220000Z
DTEND:20140514T010000Z
X-MICROSOFT-CDO-ALLDAYEVENT:FALSE
SUMMARY:Seaside Garden Club Plant Auction
DESCRIPTION:The Seaside Garden Club is holding their annual Plant Auction on May 13\, 2014 at the Manchester Community Center.  The public is welcome to come and bid for great deals on interesting perennials and annuals.  Plants are donated from garden club members and local vendors.  The proceeds are used to fund events and community gardening related outreach. Contact Kate Willwerth kwillwerth@gmail.com with questions.
X-ALT-DESC;FMTTYPE=text/html:The Seaside Garden Club is holding their annual Plant Auction on May 13\, 2014 at the Manchester Community Center.  The public is welcome to come and bid for great deals on interesting perennials and annuals.  Plants are donated from garden club members and local vendors.  The proceeds are used to fund events and community gardening related outreach. Contact Kate Willwerth kwillwerth@gmail.com with questions.
LOCATION:40 Beach St\, Manchester\, MA 01944 Manchester Community Center 40 Beach St\, Manchester
UID:e.2981.1218
SEQUENCE:3
DTSTAMP:20260419T182343Z
URL:https://visit.rockportusa.com/events/details/seaside-garden-club-plant-auction-05-13-2014-1218
END:VEVENT

END:VCALENDAR
