BEGIN:VCALENDAR
VERSION:2.0
PRODID:-//ChamberMaster//Event Calendar 2.0//EN
METHOD:PUBLISH
X-PUBLISHED-TTL:P3D
REFRESH-INTERVAL:P3D
CALSCALE:GREGORIAN
BEGIN:VEVENT
DTSTART:20140830T230000Z
DTEND:20140831T013000Z
X-MICROSOFT-CDO-ALLDAYEVENT:FALSE
SUMMARY:Schooner Festival Fireworks
DESCRIPTION:In celebration of Gloucester's annual Schooner Festival\, enjoy a fireworks display from the terrace and lawn of Beauport and with abridged evening tours as the house transforms at night.  Bring blankets\, chairs\, picnics\, and mosquito spray. Candles are prohibited. Adults and children over twelve only\, please. \n$10 Historic New England members\, $18 nonmembers
X-ALT-DESC;FMTTYPE=text/html:\nIn celebration of Gloucester's annual Schooner Festival\, enjoy a fireworks display from the terrace and lawn of Beauport and with abridged evening tours as the house transforms at night.  Bring blankets\, chairs\, picnics\, and mosquito spray. Candles are prohibited. Adults and children over twelve only\, please. \n$10 Historic New England members\, $18 nonmembers
LOCATION:75 Eastern Point Blvd.\, Gloucester \, MA 01930 Directions detail: Take Route I-95/128 north to the end. At second set of lights after the second rotary\, take East Main Street 1.5 miles\, approximately eight minutes\, to the stone pillars at the entrance to Eastern Point Boulevard. Proceed through the pillars and follow Eastern Point Boulevard .5 mile to Beauport. Parking: The Beauport parking lot is across the street from the house.
UID:e.2981.1333
SEQUENCE:3
DTSTAMP:20260419T144318Z
URL:https://visit.rockportusa.com/events/details/schooner-festival-fireworks-08-30-2014-1333
END:VEVENT

END:VCALENDAR
